BEGIN:VCALENDAR
VERSION:2.0
PRODID:Events Booking
BEGIN:VEVENT
UID:69e5ed0e17f48
SUMMARY:Direct awards in accordance with the Procurement Act 2023​ - DWF
DESCRIPTION:
DTSTART:20260507T100000Z
DTSTAMP:20251217T153303Z
ORGANIZER;CN=Local Government Lawyer:MAILTO:derek.bedlow@localgovernmentlaw
 yer.co.uk
END:VEVENT
END:VCALENDAR