BEGIN:VCALENDAR
VERSION:2.0
PRODID:Events Booking
BEGIN:VEVENT
UID:69e5cffa2e0b3
SUMMARY:39 Essex Chambers Half-Day Construction Conference in Leeds - 39 Es
 sex Chambers
DESCRIPTION:
DTSTART:20260421T230000Z
DTSTAMP:20260218T115431Z
ORGANIZER;CN=Local Government Lawyer:MAILTO:derek.bedlow@localgovernmentlaw
 yer.co.uk
END:VEVENT
END:VCALENDAR