BEGIN:VCALENDAR
VERSION:2.0
PRODID:Events Booking
BEGIN:VEVENT
UID:69e6c3b55a3f1
SUMMARY:Are the Family Courts failing victims of domestic abuse?: A discuss
 ion on the DAC report and the Government’s plan to repeal the presumptio
 n in favour of parental involvement - 42BR
DESCRIPTION:
DTSTART:20260513T230000Z
DTSTAMP:20251219T164933Z
ORGANIZER;CN=Local Government Lawyer:MAILTO:derek.bedlow@localgovernmentlaw
 yer.co.uk
END:VEVENT
END:VCALENDAR