BEGIN:VCALENDAR
VERSION:2.0
PRODID:Events Booking
BEGIN:VEVENT
UID:69e6319cde8c7
SUMMARY:Breakfast Briefing: Data Protection and Social Tenant Access to Inf
 ormation Requirements (STAIRs) Updates - Devonshires
DESCRIPTION:
DTSTART:20260423T073000Z
DTSTAMP:20260420T094407Z
ORGANIZER;CN=Local Government Lawyer:MAILTO:derek.bedlow@localgovernmentlaw
 yer.co.uk
END:VEVENT
END:VCALENDAR