BEGIN:VCALENDAR
VERSION:2.0
PRODID:Events Booking
BEGIN:VEVENT
UID:69ea5b8e8389a
SUMMARY:Subsidy control and housing projects - Ward Hadaway
DESCRIPTION:
DTSTART:20260505T130000Z
DTSTAMP:20260423T134151Z
ORGANIZER;CN=Local Government Lawyer:MAILTO:derek.bedlow@localgovernmentlaw
 yer.co.uk
END:VEVENT
END:VCALENDAR